BEGIN:VCALENDAR
VERSION:2.0
PRODID:spatie/icalendar-generator
DESCRIPTION:Events from Do It Green! Minnesota
X-WR-CALDESC:Events from Do It Green! Minnesota
REFRESH-INTERVAL;VALUE=DURATION:PT1440M
X-PUBLISHED-TTL:PT1440M
BEGIN:VTIMEZONE
TZID:America/Chicago
BEGIN:STANDARD
DTSTART:20161106T020000Z
TZOFFSETFROM:-0500
TZOFFSETTO:-0600
END:STANDARD
BEGIN:DAYLIGHT
DTSTART:20170312T020000Z
TZOFFSETFROM:-0600
TZOFFSETTO:-0500
END:DAYLIGHT
END:VTIMEZONE
BEGIN:VTIMEZONE
TZID:UTC
BEGIN:STANDARD
DTSTART:20250728T131301Z
TZOFFSETFROM:+0000
TZOFFSETTO:+0000
END:STANDARD
END:VTIMEZONE
BEGIN:VEVENT
UID:237-196
DTSTAMP:20260424T131301Z
SUMMARY:SEED: The Untold Story Documentary Screening
LOCATION:
ORGANIZER;CN=Public Submitter:MAILTO:
DTSTART;TZID=America/Chicago:20170108T180000
DTEND;TZID=America/Chicago:20170108T194500
X-ALT-DESC;FMTTYPE=TEXT/HTML:SEED: THE UNTOLD STORY is a feature-length doc
 umentary featuring Vandana Shiva\, Dr. Jane Goodall\, Andrew Kimbell\, and
  Winona LaDuke\, following passionate seed keepers protecting our 12\,000-
 year old food legacy. In the last century\, 94% of our seed varieties have
  disappeared. As biotech chemical companies control the majority of our se
 eds\, farmers\, scientists\, lawyers\, and indigenous&amp;hellip\;
CATEGORIES:General
URL;VALUE=URI:https://doitgreen.org/events/seed-the-untold-story-documentar
 y-screening-3/
METHOD:PUBLISH
END:VEVENT
END:VCALENDAR