BEGIN:VCALENDAR
VERSION:2.0
PRODID:spatie/icalendar-generator
DESCRIPTION:Events from Do It Green! Minnesota
X-WR-CALDESC:Events from Do It Green! Minnesota
REFRESH-INTERVAL;VALUE=DURATION:PT1440M
X-PUBLISHED-TTL:PT1440M
BEGIN:VTIMEZONE
TZID:America/Chicago
BEGIN:STANDARD
DTSTART:20161106T020000Z
TZOFFSETFROM:-0500
TZOFFSETTO:-0600
END:STANDARD
BEGIN:DAYLIGHT
DTSTART:20170312T020000Z
TZOFFSETFROM:-0600
TZOFFSETTO:-0500
END:DAYLIGHT
END:VTIMEZONE
BEGIN:VTIMEZONE
TZID:UTC
BEGIN:STANDARD
DTSTART:20250726T131310Z
TZOFFSETFROM:+0000
TZOFFSETTO:+0000
END:STANDARD
END:VTIMEZONE
BEGIN:VEVENT
UID:248-210
DTSTAMP:20260422T131310Z
SUMMARY:Best Practices for Pollinators in the Real World Summit 2017
LOCATION:
ORGANIZER;CN=Public Submitter:MAILTO:
DTSTART;TZID=America/Chicago:20170309T080000
DTEND;TZID=America/Chicago:20170309T120000
X-ALT-DESC;FMTTYPE=TEXT/HTML:Public concern over pollinator decline is on t
 he rise\, and justifiably so. Both native bees and honey bees are struggli
 ng\, putting natural ecosystems and agricultural systems at risk. Governor
  Dayton’s 2016 Executive Order to restore pollinator health will affect 
 local\, county and state land management practices. The Best Practices for
  Pollinators Summit will provide resources&amp;hellip\;
CATEGORIES:General
URL;VALUE=URI:https://doitgreen.org/events/best-practices-for-pollinators-i
 n-the-real-world-summit-2017/
METHOD:PUBLISH
END:VEVENT
END:VCALENDAR