BEGIN:VCALENDAR
VERSION:2.0
PRODID:spatie/icalendar-generator
DESCRIPTION:Events from Do It Green! Minnesota
X-WR-CALDESC:Events from Do It Green! Minnesota
REFRESH-INTERVAL;VALUE=DURATION:PT1440M
X-PUBLISHED-TTL:PT1440M
BEGIN:VTIMEZONE
TZID:America/Chicago
BEGIN:DAYLIGHT
DTSTART:20170312T020000Z
TZOFFSETFROM:-0600
TZOFFSETTO:-0500
END:DAYLIGHT
BEGIN:STANDARD
DTSTART:20171105T020000Z
TZOFFSETFROM:-0500
TZOFFSETTO:-0600
END:STANDARD
BEGIN:DAYLIGHT
DTSTART:20180311T020000Z
TZOFFSETFROM:-0600
TZOFFSETTO:-0500
END:DAYLIGHT
END:VTIMEZONE
BEGIN:VTIMEZONE
TZID:UTC
BEGIN:STANDARD
DTSTART:20250727T130836Z
TZOFFSETFROM:+0000
TZOFFSETTO:+0000
END:STANDARD
END:VTIMEZONE
BEGIN:VEVENT
UID:618-338
DTSTAMP:20260423T130836Z
SUMMARY:The Energy Fair
LOCATION:
ORGANIZER;CN=Public Submitter:MAILTO:
DTSTART;TZID=America/Chicago:20170910T090000
DTEND;TZID=America/Chicago:20170910T160000
X-ALT-DESC;FMTTYPE=TEXT/HTML:Celebrate clean energy and sustainable living 
 in St. Paul! The Energy Fair features interactive workshops\, exhibitors\,
  live music\, inspiring keynotes\, family fun\, great local food\, and mor
 e. Come together to learn new skills\, build community\, and take action t
 owards a more sustainable future. Workshops and exhibits are FREE and open
  to the public. All access&amp;hellip\;
CATEGORIES:General
URL;VALUE=URI:https://doitgreen.org/events/the-energy-fair-2/
METHOD:PUBLISH
END:VEVENT
END:VCALENDAR