BEGIN:VCALENDAR
VERSION:2.0
PRODID:spatie/icalendar-generator
DESCRIPTION:Events from Do It Green! Minnesota
X-WR-CALDESC:Events from Do It Green! Minnesota
REFRESH-INTERVAL;VALUE=DURATION:PT1440M
X-PUBLISHED-TTL:PT1440M
BEGIN:VTIMEZONE
TZID:America/Chicago
BEGIN:STANDARD
DTSTART:20161106T020000Z
TZOFFSETFROM:-0500
TZOFFSETTO:-0600
END:STANDARD
BEGIN:DAYLIGHT
DTSTART:20170312T020000Z
TZOFFSETFROM:-0600
TZOFFSETTO:-0500
END:DAYLIGHT
BEGIN:STANDARD
DTSTART:20171105T020000Z
TZOFFSETFROM:-0500
TZOFFSETTO:-0600
END:STANDARD
END:VTIMEZONE
BEGIN:VTIMEZONE
TZID:UTC
BEGIN:STANDARD
DTSTART:20250727T120213Z
TZOFFSETFROM:+0000
TZOFFSETTO:+0000
END:STANDARD
END:VTIMEZONE
BEGIN:VEVENT
UID:619-339
DTSTAMP:20260423T120213Z
SUMMARY:'Make &amp;amp\; Take' Rain Barrel Workshop - Just $35!
LOCATION:
ORGANIZER;CN=Public Submitter:MAILTO:
DTSTART;TZID=America/Chicago:20170620T180000
DTEND;TZID=America/Chicago:20170620T193000
X-ALT-DESC;FMTTYPE=TEXT/HTML:What's one of the simplest\, high-impact ways 
 to save water and help protect our local watersheds? Using a rain barrel. 
 Thanks to Coca-Cola Refreshments of Eagan\, Friends of the Mississippi Riv
 er has 30 used syrup containers for participants to turn into rain barrels
 . On Tuesday\, June 20th from 6:00-7:30 pm\, participants will be provided
  with&amp;hellip\;
CATEGORIES:General
URL;VALUE=URI:https://doitgreen.org/events/make-take-rain-barrel-workshop-j
 ust-35-5/
METHOD:PUBLISH
END:VEVENT
END:VCALENDAR