BEGIN:VCALENDAR
VERSION:2.0
PRODID:spatie/icalendar-generator
DESCRIPTION:Events from Do It Green! Minnesota
X-WR-CALDESC:Events from Do It Green! Minnesota
REFRESH-INTERVAL;VALUE=DURATION:PT1440M
X-PUBLISHED-TTL:PT1440M
BEGIN:VTIMEZONE
TZID:America/Chicago
BEGIN:DAYLIGHT
DTSTART:20170312T020000Z
TZOFFSETFROM:-0600
TZOFFSETTO:-0500
END:DAYLIGHT
BEGIN:STANDARD
DTSTART:20171105T020000Z
TZOFFSETFROM:-0500
TZOFFSETTO:-0600
END:STANDARD
BEGIN:DAYLIGHT
DTSTART:20180311T020000Z
TZOFFSETFROM:-0600
TZOFFSETTO:-0500
END:DAYLIGHT
END:VTIMEZONE
BEGIN:VTIMEZONE
TZID:UTC
BEGIN:STANDARD
DTSTART:20250729T170529Z
TZOFFSETFROM:+0000
TZOFFSETTO:+0000
END:STANDARD
END:VTIMEZONE
BEGIN:VEVENT
UID:707-425
DTSTAMP:20260425T170529Z
SUMMARY:Rochester Green Drinks
LOCATION:
ORGANIZER;CN=Public Submitter:MAILTO:
DTSTART;TZID=America/Chicago:20171130T170000
DTEND;TZID=America/Chicago:20171130T190000
X-ALT-DESC;FMTTYPE=TEXT/HTML:Green Drinks is an international organization 
 with a simple goal: to bring together sustainable-minded people and profes
 sionals in a casual setting. Rochester Green Drinks takes place on last Th
 ursday of each month from 5:00-ish to whenever. Join us! http://www.greend
 rinks.org/MN/Rochester https://www.facebook.com/RochesterGreenDrinks/ This
  will be our last gathering of the year and we are honored to have&amp;hellip\
 ;
CATEGORIES:General
URL;VALUE=URI:https://doitgreen.org/events/rochester-green-drinks/
METHOD:PUBLISH
END:VEVENT
END:VCALENDAR