BEGIN:VCALENDAR
VERSION:2.0
PRODID:spatie/icalendar-generator
DESCRIPTION:Events from Do It Green! Minnesota
X-WR-CALDESC:Events from Do It Green! Minnesota
REFRESH-INTERVAL;VALUE=DURATION:PT1440M
X-PUBLISHED-TTL:PT1440M
BEGIN:VTIMEZONE
TZID:America/Chicago
BEGIN:STANDARD
DTSTART:20171105T020000Z
TZOFFSETFROM:-0500
TZOFFSETTO:-0600
END:STANDARD
BEGIN:DAYLIGHT
DTSTART:20180311T020000Z
TZOFFSETFROM:-0600
TZOFFSETTO:-0500
END:DAYLIGHT
BEGIN:STANDARD
DTSTART:20181104T020000Z
TZOFFSETFROM:-0500
TZOFFSETTO:-0600
END:STANDARD
END:VTIMEZONE
BEGIN:VTIMEZONE
TZID:UTC
BEGIN:STANDARD
DTSTART:20250724T100719Z
TZOFFSETFROM:+0000
TZOFFSETTO:+0000
END:STANDARD
END:VTIMEZONE
BEGIN:VEVENT
UID:812-485
DTSTAMP:20260420T100719Z
SUMMARY:Earth Day 2.0: River Gorge Cleanup
LOCATION:
ORGANIZER;CN=Public Submitter:MAILTO:
DTSTART;TZID=America/Chicago:20180512T093000
DTEND;TZID=America/Chicago:20180512T120000
X-ALT-DESC;FMTTYPE=TEXT/HTML:Taking place just off of West River Parkway\, 
 this cleanup has become an Earth Day tradition in the Minneapolis River Go
 rge. The originally scheduled April 21st event was postponed due to our de
 layed spring but now we're ready to get out on May 12th\, get our hands di
 rty\, and cleanup this beautiful spot along the&amp;hellip\;
CATEGORIES:General
URL;VALUE=URI:https://doitgreen.org/events/earth-day-2-0-river-gorge-cleanu
 p/
METHOD:PUBLISH
END:VEVENT
END:VCALENDAR