BEGIN:VCALENDAR
VERSION:2.0
PRODID:spatie/icalendar-generator
DESCRIPTION:Events from Do It Green! Minnesota
X-WR-CALDESC:Events from Do It Green! Minnesota
REFRESH-INTERVAL;VALUE=DURATION:PT1440M
X-PUBLISHED-TTL:PT1440M
BEGIN:VTIMEZONE
TZID:America/Chicago
BEGIN:STANDARD
DTSTART:20181104T020000Z
TZOFFSETFROM:-0500
TZOFFSETTO:-0600
END:STANDARD
BEGIN:DAYLIGHT
DTSTART:20190310T020000Z
TZOFFSETFROM:-0600
TZOFFSETTO:-0500
END:DAYLIGHT
END:VTIMEZONE
BEGIN:VTIMEZONE
TZID:UTC
BEGIN:STANDARD
DTSTART:20250723T214526Z
TZOFFSETFROM:+0000
TZOFFSETTO:+0000
END:STANDARD
END:VTIMEZONE
BEGIN:VEVENT
UID:924-702
DTSTAMP:20260419T214526Z
SUMMARY:Earth Day Plogging / Cleanup with Fjallraven
LOCATION:
ORGANIZER;CN=Ami Voeltz:MAILTO:ami@doitgreen.org
DTSTART;TZID=America/Chicago:20190420T090000
DTEND;TZID=America/Chicago:20190420T120000
X-ALT-DESC;FMTTYPE=TEXT/HTML:Plogging: the mash up of jogging and the Swedi
 sh \"plocka upp\" or pick up. Meaning to pick up trash while spending time
  in the outdoors. Since Fjällräven was founded in 1960\, we have been in
 spiring people to get outside. Building on our love of the outdoors\, Fjä
 llräven is hosting plogging events across North America. Cleaning&amp;hellip\
 ;
CATEGORIES:General
URL;VALUE=URI:https://doitgreen.org/events/earth-day-plogging-cleanup-with-
 fjallraven/
METHOD:PUBLISH
END:VEVENT
END:VCALENDAR