BEGIN:VCALENDAR
VERSION:2.0
PRODID:spatie/icalendar-generator
DESCRIPTION:Events from Do It Green! Minnesota
X-WR-CALDESC:Events from Do It Green! Minnesota
REFRESH-INTERVAL;VALUE=DURATION:PT1440M
X-PUBLISHED-TTL:PT1440M
BEGIN:VTIMEZONE
TZID:America/Chicago
BEGIN:STANDARD
DTSTART:20181104T020000Z
TZOFFSETFROM:-0500
TZOFFSETTO:-0600
END:STANDARD
BEGIN:DAYLIGHT
DTSTART:20190310T020000Z
TZOFFSETFROM:-0600
TZOFFSETTO:-0500
END:DAYLIGHT
END:VTIMEZONE
BEGIN:VTIMEZONE
TZID:UTC
BEGIN:STANDARD
DTSTART:20250724T125048Z
TZOFFSETFROM:+0000
TZOFFSETTO:+0000
END:STANDARD
END:VTIMEZONE
BEGIN:VEVENT
UID:936-675
DTSTAMP:20260420T125048Z
SUMMARY:South Minneapolis Green Fair
LOCATION:
ORGANIZER;CN=Do It Green! Minnesota:MAILTO:webmaster@doitgreen.org
DTSTART;TZID=America/Chicago:20190413T120000
DTEND;TZID=America/Chicago:20190413T160000
X-ALT-DESC;FMTTYPE=TEXT/HTML:A free\, family-friendly event for an environm
 entally sustainable lifestyle. Visit with environmental organizations and 
 groups\, listen to special presentations from experts on everything from e
 nvironmentally friendly decluttering to rain gardens\, and get your questi
 ons answered in a friendly atmosphere. More information at bit.ly/SMGreenF
 air. Hosted by Nokomis East Neighborhood Association\, Longfellow Communit
 y Council\, and Standish Ericsson&amp;hellip\;
CATEGORIES:General
URL;VALUE=URI:https://doitgreen.org/events/south-minneapolis-green-fair/
METHOD:PUBLISH
END:VEVENT
END:VCALENDAR