BEGIN:VCALENDAR
VERSION:2.0
PRODID:spatie/icalendar-generator
DESCRIPTION:Events from Do It Green! Minnesota
X-WR-CALDESC:Events from Do It Green! Minnesota
REFRESH-INTERVAL;VALUE=DURATION:PT1440M
X-PUBLISHED-TTL:PT1440M
BEGIN:VTIMEZONE
TZID:America/Chicago
BEGIN:DAYLIGHT
DTSTART:20210314T020000Z
TZOFFSETFROM:-0600
TZOFFSETTO:-0500
END:DAYLIGHT
BEGIN:STANDARD
DTSTART:20211107T020000Z
TZOFFSETFROM:-0500
TZOFFSETTO:-0600
END:STANDARD
BEGIN:DAYLIGHT
DTSTART:20220313T020000Z
TZOFFSETFROM:-0600
TZOFFSETTO:-0500
END:DAYLIGHT
END:VTIMEZONE
BEGIN:VTIMEZONE
TZID:UTC
BEGIN:STANDARD
DTSTART:20250729T102144Z
TZOFFSETFROM:+0000
TZOFFSETTO:+0000
END:STANDARD
END:VTIMEZONE
BEGIN:VEVENT
UID:1164-938
DTSTAMP:20260425T102144Z
SUMMARY:National Public Lands Day Understory Planting with Great River Gree
 ning
LOCATION:
ORGANIZER;CN=Public Submitter:MAILTO:
DTSTART;TZID=America/Chicago:20210925T090000
DTEND;TZID=America/Chicago:20210925T100000
X-ALT-DESC;FMTTYPE=TEXT/HTML:Join Great River Greening for a Saturday morni
 ng planting in celebration of National Public Lands Day! Together\, we wil
 l enhance the composition and diversity of this maple basswood forest thro
 ugh tree and understory planting in pockets where trees were previously th
 inned. This is a family-friendly event. Volunteers of all ages and backgro
 unds are encouraged to&amp;hellip\;
CATEGORIES:General
URL;VALUE=URI:https://doitgreen.org/events/national-public-lands-day-unders
 tory-planting-with-great-river-greening/
METHOD:PUBLISH
END:VEVENT
END:VCALENDAR