BEGIN:VCALENDAR
VERSION:2.0
PRODID:spatie/icalendar-generator
DESCRIPTION:Events from Do It Green! Minnesota
X-WR-CALDESC:Events from Do It Green! Minnesota
REFRESH-INTERVAL;VALUE=DURATION:PT1440M
X-PUBLISHED-TTL:PT1440M
BEGIN:VTIMEZONE
TZID:America/Chicago
BEGIN:STANDARD
DTSTART:20161106T020000Z
TZOFFSETFROM:-0500
TZOFFSETTO:-0600
END:STANDARD
BEGIN:DAYLIGHT
DTSTART:20170312T020000Z
TZOFFSETFROM:-0600
TZOFFSETTO:-0500
END:DAYLIGHT
END:VTIMEZONE
BEGIN:VTIMEZONE
TZID:UTC
BEGIN:STANDARD
DTSTART:20250724T211353Z
TZOFFSETFROM:+0000
TZOFFSETTO:+0000
END:STANDARD
END:VTIMEZONE
BEGIN:VEVENT
UID:577-298
DTSTAMP:20260420T211353Z
SUMMARY:Free E-Waste Recycling with Tech Dump at All Lakewinds Co-ops
LOCATION:
ORGANIZER;CN=Public Submitter:MAILTO:
DTSTART;TZID=America/Chicago:20170408T090000
DTEND;TZID=America/Chicago:20170408T130000
X-ALT-DESC;FMTTYPE=TEXT/HTML:Lakewinds Co-ops and Tech Dump will team up on
  technology recycling events at all three co-op locations. All are welcome
  to bring computers\, cell phones\, tablets\, chargers\, and cords and dis
 pose of them for FREE. (Note that large electronics will not be accepted.)
  Welcome Earth month by clearing your e-clutter while supporting Tech Dump
  in&amp;hellip\;
CATEGORIES:General
URL;VALUE=URI:https://doitgreen.org/events/free-e-waste-recycling-with-tech
 -dump-at-all-lakewinds-co-ops/
METHOD:PUBLISH
END:VEVENT
END:VCALENDAR