BEGIN:VCALENDAR
VERSION:2.0
PRODID:spatie/icalendar-generator
DESCRIPTION:Events from Do It Green! Minnesota
X-WR-CALDESC:Events from Do It Green! Minnesota
REFRESH-INTERVAL;VALUE=DURATION:PT1440M
X-PUBLISHED-TTL:PT1440M
BEGIN:VTIMEZONE
TZID:America/Chicago
BEGIN:STANDARD
DTSTART:20161106T020000Z
TZOFFSETFROM:-0500
TZOFFSETTO:-0600
END:STANDARD
BEGIN:DAYLIGHT
DTSTART:20170312T020000Z
TZOFFSETFROM:-0600
TZOFFSETTO:-0500
END:DAYLIGHT
END:VTIMEZONE
BEGIN:VTIMEZONE
TZID:UTC
BEGIN:STANDARD
DTSTART:20250724T194218Z
TZOFFSETFROM:+0000
TZOFFSETTO:+0000
END:STANDARD
END:VTIMEZONE
BEGIN:VEVENT
UID:578-299
DTSTAMP:20260420T194218Z
SUMMARY:Corcoron Alleycat Trash Parade
LOCATION:
ORGANIZER;CN=Public Submitter:MAILTO:
DTSTART;TZID=America/Chicago:20170408T093000
DTEND;TZID=America/Chicago:20170408T120000
X-ALT-DESC;FMTTYPE=TEXT/HTML:Join us as we clean-up our alley’s and draw 
 attention to the importance of keeping trash/recycling/compost out of our 
 drains and watershed. We’ll be making beautiful music\, stenciling the s
 torm drains\, sidewalk chalking motivation and\, of course\, picking up tr
 ash/recycling and compost! Kid-friendly event. Bring work gloves/trash pic
 kers if you have them! All are encouraged&amp;hellip\;
CATEGORIES:General
URL;VALUE=URI:https://doitgreen.org/events/corcoron-alleycat-trash-parade/
METHOD:PUBLISH
END:VEVENT
END:VCALENDAR