BEGIN:VCALENDAR
VERSION:2.0
PRODID:spatie/icalendar-generator
DESCRIPTION:Events from Do It Green! Minnesota
X-WR-CALDESC:Events from Do It Green! Minnesota
REFRESH-INTERVAL;VALUE=DURATION:PT1440M
X-PUBLISHED-TTL:PT1440M
BEGIN:VTIMEZONE
TZID:America/Chicago
BEGIN:DAYLIGHT
DTSTART:20170312T020000Z
TZOFFSETFROM:-0600
TZOFFSETTO:-0500
END:DAYLIGHT
BEGIN:STANDARD
DTSTART:20171105T020000Z
TZOFFSETFROM:-0500
TZOFFSETTO:-0600
END:STANDARD
BEGIN:DAYLIGHT
DTSTART:20180311T020000Z
TZOFFSETFROM:-0600
TZOFFSETTO:-0500
END:DAYLIGHT
END:VTIMEZONE
BEGIN:VTIMEZONE
TZID:UTC
BEGIN:STANDARD
DTSTART:20250729T124151Z
TZOFFSETFROM:+0000
TZOFFSETTO:+0000
END:STANDARD
END:VTIMEZONE
BEGIN:VEVENT
UID:705-424
DTSTAMP:20260425T124151Z
SUMMARY:MnSEIA Midwest Gateway to Solar 2017
LOCATION:
ORGANIZER;CN=Public Submitter:MAILTO:
RRULE:FREQ=DAILY;COUNT=1
DTSTART;TZID=America/Chicago:20171114T073000
DTEND;TZID=America/Chicago:20171114T170000
X-ALT-DESC;FMTTYPE=TEXT/HTML:MnSEIA announces the fourth annual \"MnSEIA 
 – Midwest Gateway to Solar\" Conference\, in Minneapolis on November 14t
 h &amp;amp\; 15th\, 2017. The Midwest Gateway is known for robust and in-depth
  educational opportunities while providing networking and exhibits in a re
 laxed and approachable forum. Are you interested in presenting in 2017? Or
  have a burning topic you'd&amp;hellip\;
CATEGORIES:General
URL;VALUE=URI:https://doitgreen.org/calendar/?mc_id=705&#038;vcal=705
METHOD:PUBLISH
END:VEVENT
END:VCALENDAR