BEGIN:VCALENDAR
VERSION:2.0
PRODID:spatie/icalendar-generator
DESCRIPTION:Events from Do It Green! Minnesota
X-WR-CALDESC:Events from Do It Green! Minnesota
REFRESH-INTERVAL;VALUE=DURATION:PT1440M
X-PUBLISHED-TTL:PT1440M
BEGIN:VTIMEZONE
TZID:America/Chicago
BEGIN:STANDARD
DTSTART:20181104T020000Z
TZOFFSETFROM:-0500
TZOFFSETTO:-0600
END:STANDARD
BEGIN:DAYLIGHT
DTSTART:20190310T020000Z
TZOFFSETFROM:-0600
TZOFFSETTO:-0500
END:DAYLIGHT
BEGIN:STANDARD
DTSTART:20191103T020000Z
TZOFFSETFROM:-0500
TZOFFSETTO:-0600
END:STANDARD
END:VTIMEZONE
BEGIN:VTIMEZONE
TZID:UTC
BEGIN:STANDARD
DTSTART:20250727T041722Z
TZOFFSETFROM:+0000
TZOFFSETTO:+0000
END:STANDARD
END:VTIMEZONE
BEGIN:VEVENT
UID:953-728
DTSTAMP:20260423T041722Z
SUMMARY:Stencil downtown St. Paul storm drains + taproom outing at Tin Whis
 kers Brewing
LOCATION:
ORGANIZER;CN=Ami Voeltz:MAILTO:ami@doitgreen.org
DTSTART;TZID=America/Chicago:20190729T180000
DTEND;TZID=America/Chicago:20190729T200000
X-ALT-DESC;FMTTYPE=TEXT/HTML:If you've spent some time roaming the streets 
 of St. Paul\, you may have noticed a message painted near the storm drains
 . Now is your chance to leave your mark in the name of water quality! Afte
 r a brief introduction and presentation about runoff pollution at the brew
 ery from Friends of the Mississippi River (FMR)&amp;hellip\;
CATEGORIES:General
URL;VALUE=URI:https://doitgreen.org/events/stencil-downtown-st-paul-storm-d
 rains-taproom-outing-at-tin-whiskers-brewing-2/
METHOD:PUBLISH
END:VEVENT
END:VCALENDAR