BEGIN:VCALENDAR
VERSION:2.0
PRODID:spatie/icalendar-generator
DESCRIPTION:Events from Do It Green! Minnesota
X-WR-CALDESC:Events from Do It Green! Minnesota
REFRESH-INTERVAL;VALUE=DURATION:PT1440M
X-PUBLISHED-TTL:PT1440M
BEGIN:VTIMEZONE
TZID:America/Chicago
BEGIN:DAYLIGHT
DTSTART:20190310T020000Z
TZOFFSETFROM:-0600
TZOFFSETTO:-0500
END:DAYLIGHT
BEGIN:STANDARD
DTSTART:20191103T020000Z
TZOFFSETFROM:-0500
TZOFFSETTO:-0600
END:STANDARD
BEGIN:DAYLIGHT
DTSTART:20200308T020000Z
TZOFFSETFROM:-0600
TZOFFSETTO:-0500
END:DAYLIGHT
END:VTIMEZONE
BEGIN:VTIMEZONE
TZID:UTC
BEGIN:STANDARD
DTSTART:20250729T211832Z
TZOFFSETFROM:+0000
TZOFFSETTO:+0000
END:STANDARD
END:VTIMEZONE
BEGIN:VEVENT
UID:959-733
DTSTAMP:20260425T211832Z
SUMMARY:Floodplain forest planting along Vermillion River's South Creek
LOCATION:
ORGANIZER;CN=Public Submitter:MAILTO:
DTSTART;TZID=America/Chicago:20190905T180000
DTEND;TZID=America/Chicago:20190905T190000
X-ALT-DESC;FMTTYPE=TEXT/HTML:Located in Farmington\, South Creek helps feed
  the Vermillion River\, a cold prairie river flowing through the heart of 
 Dakota County. The Vermillion is an important Mississippi River tributary 
 and is the only trophy brown trout stream in a metro area in the United St
 ates. On September 5\, from 6-8 pm\, volunteers will work closely&amp;hellip\;
CATEGORIES:General
URL;VALUE=URI:https://doitgreen.org/events/floodplain-forest-planting-along
 -vermillion-rivers-south-creek-3/
METHOD:PUBLISH
END:VEVENT
END:VCALENDAR